BEGIN:VCALENDAR
VERSION:2.0
CALSCALE:GREGORIAN
PRODID:adamgibbons/ics
METHOD:PUBLISH
X-PUBLISHED-TTL:PT1H
BEGIN:VEVENT
UID:XyvljYYK9a4y9kUTnBGi1
SUMMARY:Interim report January - June 2026
DTSTAMP:20260421T101312Z
DTSTART:20260806T053000Z
DTEND:20260806T053100Z
END:VEVENT
END:VCALENDAR
